BEGIN:VCALENDAR
VERSION:2.0
PRODID:-//TRANSAXIO HÔTEL - ECPv6.15.5//NONSGML v1.0//EN
CALSCALE:GREGORIAN
METHOD:PUBLISH
X-ORIGINAL-URL:https://www.transaxio-hotel.com
X-WR-CALDESC:Évènements pour TRANSAXIO HÔTEL
REFRESH-INTERVAL;VALUE=DURATION:PT1H
X-Robots-Tag:noindex
X-PUBLISHED-TTL:PT1H
BEGIN:VTIMEZONE
TZID:Europe/Paris
BEGIN:DAYLIGHT
TZOFFSETFROM:+0100
TZOFFSETTO:+0200
TZNAME:CEST
DTSTART:20240331T010000
END:DAYLIGHT
BEGIN:STANDARD
TZOFFSETFROM:+0200
TZOFFSETTO:+0100
TZNAME:CET
DTSTART:20241027T010000
END:STANDARD
END:VTIMEZONE
BEGIN:VEVENT
DTSTART;TZID=Europe/Paris:20240314T103000
DTEND;TZID=Europe/Paris:20240314T183000
DTSTAMP:20260426T054735
CREATED:20240305T154949Z
LAST-MODIFIED:20240307T134609Z
UID:18772-1710412200-1710441000@www.transaxio-hotel.com
SUMMARY:MIPIM - Cannes du 12 au 15 mars
DESCRIPTION:Valérie Gauthier\, de l’équipe Transaxio Hôtel partenaire In Extenso\, sera présente au MIPIM le 14 mars.
URL:https://www.transaxio-hotel.com/event/mipim-cannes-palais-des-festivals-du-12-au-15-mars/
LOCATION:Palais des Festivals
CATEGORIES:Salon professionnel
ATTACH;FMTTYPE=image/jpeg:https://www.transaxio-hotel.com/wp-content/uploads/2024/03/Salon-MIPIM-2.jpg
END:VEVENT
END:VCALENDAR