BEGIN:VCALENDAR
VERSION:2.0
PRODID:-//TRANSAXIO HÔTEL - ECPv6.15.5//NONSGML v1.0//EN
CALSCALE:GREGORIAN
METHOD:PUBLISH
X-ORIGINAL-URL:https://www.transaxio-hotel.com
X-WR-CALDESC:Évènements pour TRANSAXIO HÔTEL
REFRESH-INTERVAL;VALUE=DURATION:PT1H
X-Robots-Tag:noindex
X-PUBLISHED-TTL:PT1H
BEGIN:VTIMEZONE
TZID:Europe/Paris
BEGIN:DAYLIGHT
TZOFFSETFROM:+0100
TZOFFSETTO:+0200
TZNAME:CEST
DTSTART:20240331T010000
END:DAYLIGHT
BEGIN:STANDARD
TZOFFSETFROM:+0200
TZOFFSETTO:+0100
TZNAME:CET
DTSTART:20241027T010000
END:STANDARD
END:VTIMEZONE
BEGIN:VEVENT
DTSTART;VALUE=DATE:20241103
DTEND;VALUE=DATE:20241108
DTSTAMP:20260425T172647
CREATED:20240226T153210Z
LAST-MODIFIED:20240226T154208Z
UID:18741-1730592000-1731023999@www.transaxio-hotel.com
SUMMARY:EquipHotel - Paris Porte de Versailles du 3 au 7 novembre
DESCRIPTION:Toute l’équipe Transaxio Hôtel partenaire In Extenso\, sera présente au salon EquipHotel 2024\, rendez-vous majeur des acteurs de l’hôtellerie.
URL:https://www.transaxio-hotel.com/event/equiphotel-paris-porte-de-versailles-du-3-au-7-novembre/
LOCATION:Porte de Versailles
CATEGORIES:Salon professionnel
ATTACH;FMTTYPE=image/png:https://www.transaxio-hotel.com/wp-content/uploads/2024/02/Salon-EH-1.png
END:VEVENT
END:VCALENDAR