BEGIN:VCALENDAR
VERSION:2.0
PRODID:-//TRANSAXIO HÔTEL - ECPv6.15.5//NONSGML v1.0//EN
CALSCALE:GREGORIAN
METHOD:PUBLISH
X-WR-CALNAME:TRANSAXIO HÔTEL
X-ORIGINAL-URL:https://www.transaxio-hotel.com
X-WR-CALDESC:Évènements pour TRANSAXIO HÔTEL
REFRESH-INTERVAL;VALUE=DURATION:PT1H
X-Robots-Tag:noindex
X-PUBLISHED-TTL:PT1H
BEGIN:VTIMEZONE
TZID:Europe/Paris
BEGIN:DAYLIGHT
TZOFFSETFROM:+0100
TZOFFSETTO:+0200
TZNAME:CEST
DTSTART:20250330T010000
END:DAYLIGHT
BEGIN:STANDARD
TZOFFSETFROM:+0200
TZOFFSETTO:+0100
TZNAME:CET
DTSTART:20251026T010000
END:STANDARD
END:VTIMEZONE
BEGIN:VEVENT
DTSTART;TZID=Europe/Paris:20250207T083000
DTEND;TZID=Europe/Paris:20250207T130000
DTSTAMP:20260425T123427
CREATED:20250129T165632Z
LAST-MODIFIED:20250129T165742Z
UID:19562-1738917000-1738933200@www.transaxio-hotel.com
SUMMARY:Les Tendances de l'Hôtellerie - In Extenso Tourisme Culture et Hôtellerie
DESCRIPTION:
URL:https://www.transaxio-hotel.com/event/les-tendances-de-lhotellerie/
LOCATION:CNIT Forest\, La Défense\, France
CATEGORIES:Conférence
ATTACH;FMTTYPE=image/png:https://www.transaxio-hotel.com/wp-content/uploads/2025/01/Les-Tendances-de-lHotellerie-2025.png
END:VEVENT
END:VCALENDAR