BEGIN:VCALENDAR
VERSION:2.0
PRODID:-//TRANSAXIO HÔTEL - ECPv6.15.5//NONSGML v1.0//EN
CALSCALE:GREGORIAN
METHOD:PUBLISH
X-ORIGINAL-URL:https://www.transaxio-hotel.com
X-WR-CALDESC:Évènements pour TRANSAXIO HÔTEL
REFRESH-INTERVAL;VALUE=DURATION:PT1H
X-Robots-Tag:noindex
X-PUBLISHED-TTL:PT1H
BEGIN:VTIMEZONE
TZID:Europe/Paris
BEGIN:DAYLIGHT
TZOFFSETFROM:+0100
TZOFFSETTO:+0200
TZNAME:CEST
DTSTART:20250330T010000
END:DAYLIGHT
BEGIN:STANDARD
TZOFFSETFROM:+0200
TZOFFSETTO:+0100
TZNAME:CET
DTSTART:20251026T010000
END:STANDARD
END:VTIMEZONE
BEGIN:VEVENT
DTSTART;TZID=Europe/Paris:20251014T083000
DTEND;TZID=Europe/Paris:20251014T120000
DTSTAMP:20260425T002149
CREATED:20251205T165303Z
LAST-MODIFIED:20251205T165303Z
UID:19910-1760430600-1760443200@www.transaxio-hotel.com
SUMMARY:Les Tendances de l'Hôtellerie - In Extenso Tourisme Culture et Hôtellerie
DESCRIPTION:
URL:https://www.transaxio-hotel.com/event/les-tendances-de-lhotellerie-in-extenso-tourisme-culture-et-hotellerie-3/
LOCATION:Crowne Plaza Marseille Le Dôme\, Marseille\, France
CATEGORIES:Conférence
ATTACH;FMTTYPE=image/png:https://www.transaxio-hotel.com/wp-content/uploads/2025/12/Les-Tendances-de-lHotellerie-par-In-Extenso-TCH.png
END:VEVENT
END:VCALENDAR