BEGIN:VCALENDAR
VERSION:2.0
PRODID:-//TRANSAXIO HÔTEL - ECPv6.15.5//NONSGML v1.0//EN
CALSCALE:GREGORIAN
METHOD:PUBLISH
X-ORIGINAL-URL:https://www.transaxio-hotel.com
X-WR-CALDESC:Évènements pour TRANSAXIO HÔTEL
REFRESH-INTERVAL;VALUE=DURATION:PT1H
X-Robots-Tag:noindex
X-PUBLISHED-TTL:PT1H
BEGIN:VTIMEZONE
TZID:Europe/Paris
BEGIN:DAYLIGHT
TZOFFSETFROM:+0100
TZOFFSETTO:+0200
TZNAME:CEST
DTSTART:20250330T010000
END:DAYLIGHT
BEGIN:STANDARD
TZOFFSETFROM:+0200
TZOFFSETTO:+0100
TZNAME:CET
DTSTART:20251026T010000
END:STANDARD
END:VTIMEZONE
BEGIN:VEVENT
DTSTART;TZID=Europe/Paris:20251120T143000
DTEND;TZID=Europe/Paris:20251120T180000
DTSTAMP:20260424T225559
CREATED:20251205T164832Z
LAST-MODIFIED:20251205T164832Z
UID:19906-1763649000-1763661600@www.transaxio-hotel.com
SUMMARY:Les Tendances de l'Hôtellerie - In Extenso Tourisme Culture et Hôtellerie
DESCRIPTION:
URL:https://www.transaxio-hotel.com/event/les-tendances-de-lhotellerie-in-extenso-tourisme-culture-et-hotellerie-2/
LOCATION:CCI Touraine\, Tours\, France
CATEGORIES:Conférence
ATTACH;FMTTYPE=image/png:https://www.transaxio-hotel.com/wp-content/uploads/2025/12/Les-Tendances-de-lHotellerie-par-In-Extenso-TCH.png
END:VEVENT
END:VCALENDAR