BEGIN:VCALENDAR
VERSION:2.0
PRODID:-//TRANSAXIO HÔTEL - ECPv6.15.5//NONSGML v1.0//EN
CALSCALE:GREGORIAN
METHOD:PUBLISH
X-ORIGINAL-URL:https://www.transaxio-hotel.com
X-WR-CALDESC:Évènements pour TRANSAXIO HÔTEL
REFRESH-INTERVAL;VALUE=DURATION:PT1H
X-Robots-Tag:noindex
X-PUBLISHED-TTL:PT1H
BEGIN:VTIMEZONE
TZID:Europe/Paris
BEGIN:DAYLIGHT
TZOFFSETFROM:+0100
TZOFFSETTO:+0200
TZNAME:CEST
DTSTART:20260329T010000
END:DAYLIGHT
BEGIN:STANDARD
TZOFFSETFROM:+0200
TZOFFSETTO:+0100
TZNAME:CET
DTSTART:20261025T010000
END:STANDARD
END:VTIMEZONE
BEGIN:VEVENT
DTSTART;VALUE=DATE:20260330
DTEND;VALUE=DATE:20260402
DTSTAMP:20260423T152938
CREATED:20251209T151411Z
LAST-MODIFIED:20251209T151411Z
UID:19923-1774828800-1775087999@www.transaxio-hotel.com
SUMMARY:Village partenaires de l'AFA
DESCRIPTION:
URL:https://www.transaxio-hotel.com/event/village-partenaires-de-lafa-2/
LOCATION:Stade Vélodrome\, Marseille\, France
CATEGORIES:Rencontres professionnelles
ATTACH;FMTTYPE=image/jpeg:https://www.transaxio-hotel.com/wp-content/uploads/2025/12/afa-logo-Copie.jpg
END:VEVENT
END:VCALENDAR