BEGIN:VCALENDAR
VERSION:2.0
PRODID:-//TRANSAXIO HÔTEL - ECPv6.15.5//NONSGML v1.0//EN
CALSCALE:GREGORIAN
METHOD:PUBLISH
X-WR-CALNAME:TRANSAXIO HÔTEL
X-ORIGINAL-URL:https://www.transaxio-hotel.com
X-WR-CALDESC:Évènements pour TRANSAXIO HÔTEL
REFRESH-INTERVAL;VALUE=DURATION:PT1H
X-Robots-Tag:noindex
X-PUBLISHED-TTL:PT1H
BEGIN:VTIMEZONE
TZID:Europe/Paris
BEGIN:DAYLIGHT
TZOFFSETFROM:+0100
TZOFFSETTO:+0200
TZNAME:CEST
DTSTART:20240331T010000
END:DAYLIGHT
BEGIN:STANDARD
TZOFFSETFROM:+0200
TZOFFSETTO:+0100
TZNAME:CET
DTSTART:20241027T010000
END:STANDARD
END:VTIMEZONE
BEGIN:VEVENT
DTSTART;VALUE=DATE:20240529
DTEND;VALUE=DATE:20240531
DTSTAMP:20260426T010030
CREATED:20240226T150137Z
LAST-MODIFIED:20240226T154055Z
UID:18732-1716940800-1717113599@www.transaxio-hotel.com
SUMMARY:AIFE - Cannes du 29 au 30 mai
DESCRIPTION:Franchisés Louvre Hotels\, retrouvons-nous à l’AIFE
URL:https://www.transaxio-hotel.com/event/aife-cannes-du-29-au-30-mai/
CATEGORIES:Rencontres professionnelles
ATTACH;FMTTYPE=image/png:https://www.transaxio-hotel.com/wp-content/uploads/2024/02/Salon-AIFE.png
END:VEVENT
END:VCALENDAR