BEGIN:VCALENDAR
VERSION:2.0
PRODID:-//TRANSAXIO HÔTEL - ECPv6.15.5//NONSGML v1.0//EN
CALSCALE:GREGORIAN
METHOD:PUBLISH
X-ORIGINAL-URL:https://www.transaxio-hotel.com
X-WR-CALDESC:Évènements pour TRANSAXIO HÔTEL
REFRESH-INTERVAL;VALUE=DURATION:PT1H
X-Robots-Tag:noindex
X-PUBLISHED-TTL:PT1H
BEGIN:VTIMEZONE
TZID:Europe/Paris
BEGIN:DAYLIGHT
TZOFFSETFROM:+0100
TZOFFSETTO:+0200
TZNAME:CEST
DTSTART:20250330T010000
END:DAYLIGHT
BEGIN:STANDARD
TZOFFSETFROM:+0200
TZOFFSETTO:+0100
TZNAME:CET
DTSTART:20251026T010000
END:STANDARD
END:VTIMEZONE
BEGIN:VEVENT
DTSTART;TZID=Europe/Paris:20251209T090000
DTEND;TZID=Europe/Paris:20251211T170000
DTSTAMP:20260424T202630
CREATED:20251205T163652Z
LAST-MODIFIED:20251205T163652Z
UID:19896-1765270800-1765472400@www.transaxio-hotel.com
SUMMARY:Salon SIMI
DESCRIPTION:
URL:https://www.transaxio-hotel.com/event/salon-simi/
LOCATION:Porte de Versailles
CATEGORIES:Salon professionnel
ATTACH;FMTTYPE=image/jpeg:https://www.transaxio-hotel.com/wp-content/uploads/2025/12/simi-logo-svg.jpg
END:VEVENT
BEGIN:VEVENT
DTSTART;TZID=Europe/Paris:20251216T093000
DTEND;TZID=Europe/Paris:20251216T123000
DTSTAMP:20260424T202630
CREATED:20251205T164310Z
LAST-MODIFIED:20251205T165741Z
UID:19900-1765877400-1765888200@www.transaxio-hotel.com
SUMMARY:Les Tendances de l'Hôtellerie - In Extenso Tourisme Culture et Hôtellerie
DESCRIPTION:
URL:https://www.transaxio-hotel.com/event/les-tendances-de-lhotellerie-in-extenso-tourisme-culture-et-hotellerie/
LOCATION:Hôtel Courtyard by Marriott\, Montpellier\, France
CATEGORIES:Conférence
ATTACH;FMTTYPE=image/png:https://www.transaxio-hotel.com/wp-content/uploads/2025/12/Les-Tendances-de-lHotellerie-par-In-Extenso-TCH.png
END:VEVENT
END:VCALENDAR